BEGIN:VCALENDAR
VERSION:2.0
PRODID:-//Squarespace Inc/Squarespace 6//v6//EN
BEGIN:VEVENT
UID:5cf4d51faccbe800011b688c@squarespace.com
DTSTAMP:20190603T080946Z
DTSTART:20190719T220000Z
DTEND:20190721T070000Z
SUMMARY:Queensland Pool Rescue
GEO:-27.963879;153.416022
LOCATION:Gold Coast Aquatic Centre
END:VEVENT
END:VCALENDAR
