BEGIN:VCALENDAR
VERSION:2.0
PRODID:-//Squarespace Inc/Squarespace 6//v6//EN
BEGIN:VEVENT
UID:5b629bfb2b6a2845023f5426@squarespace.com
DTSTAMP:20190603T234359Z
DTSTART:20190921T220000Z
DTEND:20190928T050000Z
SUMMARY:2019 Life Saving Camp
GEO:-26.80288;153.14315
LOCATION:Metropolitan-Caloundra SLSC\, Spender Lane\, Kings Beach\, QLD\, 4
 551\, Australia
END:VEVENT
END:VCALENDAR
