BEGIN:VCALENDAR
VERSION:2.0
PRODID:-//Squarespace Inc/Squarespace 6//v6//EN
BEGIN:VEVENT
UID:5a5800bc652deaf84ee727bb@squarespace.com
DTSTAMP:20190714T082939Z
DTSTART:20190817T030000Z
DTEND:20190817T050000Z
SUMMARY:Club Board &amp\; Operations Group Meeting
END:VEVENT
END:VCALENDAR
