BEGIN:VCALENDAR
VERSION:2.0
PRODID:-//Squarespace Inc/Squarespace 6//v6//EN
BEGIN:VEVENT
UID:592a54a31b10e3b3237ba9d7@squarespace.com
DTSTAMP:20190603T070716Z
DTSTART:20191003T230000Z
DTEND:20191007T120000Z
SUMMARY:Caloundra Music Festival
GEO:-26.801;153.141
LOCATION:Kings Beach Qld
END:VEVENT
END:VCALENDAR
