BEGIN:VCALENDAR
VERSION:2.0
PRODID:-//Squarespace Inc/Squarespace 6//v6//EN
BEGIN:VEVENT
UID:5cf4be57accbe800011ae58e@squarespace.com
DTSTAMP:20190603T063259Z
DTSTART:20190727T080000Z
DTEND:20190727T130000Z
SUMMARY:Sunshine Coast Awards of Excellence
GEO:-26.655967;153.103437
LOCATION:Maroochydore SLSC
END:VEVENT
END:VCALENDAR
