BEGIN:VCALENDAR
VERSION:2.0
PRODID:-//Squarespace Inc/Squarespace 6//v6//EN
BEGIN:VEVENT
UID:5cf4bfd74228160001a71859@squarespace.com
DTSTAMP:20190603T063828Z
DTSTART:20190824T080000Z
DTEND:20190824T130000Z
SUMMARY:SLSQ Awards of Excellence
GEO:-27.47831;153.014803
LOCATION:Greek Club\, Edmondstone Street\, South Brisbane\, QLD\, 4101\, Au
 stralia
END:VEVENT
END:VCALENDAR
