BEGIN:VCALENDAR
VERSION:2.0
PRODID:-//Squarespace Inc/Squarespace 6//v6//EN
BEGIN:VEVENT
UID:588754e7e3df2843ced6286c@squarespace.com
DTSTAMP:20170310T044941Z
DTSTART:20170630T140000Z
DTEND:20170702T135900Z
SUMMARY:State IRB Championships
GEO:38.416883;-122.695496
LOCATION:Kawana Waters
END:VEVENT
END:VCALENDAR
