BEGIN:VCALENDAR
VERSION:2.0
PRODID:-//Squarespace Inc/Squarespace 6//v6//EN
BEGIN:VEVENT
UID:5922d257b3db2b421d5741e2@squarespace.com
DTSTAMP:20170522T115915Z
DTSTART:20170618T013000Z
DTEND:20170618T023000Z
SUMMARY:Supporters Club Annual General Meeting
GEO:-26.802897;153.143187
LOCATION:Metropolitan Caloundra SLSC (Training Room)\, 1 Spender Lane\, Kin
 gs Beach\, QLD\, 4551\, Australia
END:VEVENT
END:VCALENDAR
