BEGIN:VCALENDAR
VERSION:2.0
PRODID:-//Squarespace Inc/Squarespace 6//v6//EN
BEGIN:VEVENT
UID:588754836a4963ab7b68d9b0@squarespace.com
DTSTAMP:20170310T045103Z
DTSTART:20170609T140000Z
DTEND:20170611T135900Z
SUMMARY:Ocean Roar – Rd 4
END:VEVENT
END:VCALENDAR
