BEGIN:VCALENDAR
VERSION:2.0
PRODID:-//Squarespace Inc/Squarespace 6//v6//EN
BEGIN:VEVENT
UID:588753e359cc689eb1b23dbc@squarespace.com
DTSTAMP:20170310T045359Z
DTSTART:20170505T140000Z
DTEND:20170506T135900Z
SUMMARY:Ocean Roar - Rd 1
END:VEVENT
END:VCALENDAR
