BEGIN:VCALENDAR
VERSION:2.0
PRODID:-//Squarespace Inc/Squarespace 6//v6//EN
BEGIN:VEVENT
UID:5887544d3a04115a5ae1983b@squarespace.com
DTSTAMP:20170310T045158Z
DTSTART:20170526T140000Z
DTEND:20170528T135900Z
SUMMARY:Ocean Roar – Rd 3
END:VEVENT
END:VCALENDAR
